BEGIN:VCALENDAR
PRODID:-//eluceo/ical//2.0/EN
VERSION:2.0
CALSCALE:GREGORIAN
BEGIN:VEVENT
UID:ec9ca8b46afb5843641d2f226992493c
DTSTAMP:20260422T170004Z
SUMMARY:Novej & starej ŽIVĚ: Je Shawshank nejlepší film?
DTSTART;TZID=Europe/Prague:20260511T200000
DTEND;TZID=Europe/Prague:20260511T214000
LOCATION:Univerzitní kino Scala
END:VEVENT
END:VCALENDAR
BEGIN:VCALENDAR
PRODID:-//eluceo/ical//2.0/EN
VERSION:2.0
CALSCALE:GREGORIAN
BEGIN:VEVENT
UID:f0089e777b46de955d0a14e4aef437b2
DTSTAMP:20260422T170004Z
SUMMARY:Novej & starej ŽIVĚ: Je Shawshank nejlepší film?
DTSTART;TZID=Europe/Prague:20260511T200000
DTEND;TZID=Europe/Prague:20260511T214000
LOCATION:Univerzitní kino Scala
END:VEVENT
END:VCALENDAR
