BEGIN:VCALENDAR
PRODID:-//eluceo/ical//2.0/EN
VERSION:2.0
CALSCALE:GREGORIAN
BEGIN:VEVENT
UID:796b5e6f3751f8c7bb22feb44e9a8002
DTSTAMP:20260422T182311Z
SUMMARY:Billie Eilish - Hit Me Hard and Soft: The Tour
DTSTART;TZID=Europe/Prague:20260507T200000
DTEND;TZID=Europe/Prague:20260507T215400
LOCATION:Univerzitní kino Scala
END:VEVENT
END:VCALENDAR
BEGIN:VCALENDAR
PRODID:-//eluceo/ical//2.0/EN
VERSION:2.0
CALSCALE:GREGORIAN
BEGIN:VEVENT
UID:4f25e8266ac91bd5bc416c86eb6ba2fb
DTSTAMP:20260422T182311Z
SUMMARY:Billie Eilish - Hit Me Hard and Soft: The Tour
DTSTART;TZID=Europe/Prague:20260507T200000
DTEND;TZID=Europe/Prague:20260507T215400
LOCATION:Univerzitní kino Scala
END:VEVENT
END:VCALENDAR
