BEGIN:VCALENDAR
PRODID:-//eluceo/ical//2.0/EN
VERSION:2.0
CALSCALE:GREGORIAN
BEGIN:VEVENT
UID:cd7c1aeea1b455b90da326d5bd6002f6
DTSTAMP:20260423T123935Z
SUMMARY:Spasitel
DTSTART;TZID=Europe/Prague:20260427T200000
DTEND;TZID=Europe/Prague:20260427T223600
LOCATION:Univerzitní kino Scala
END:VEVENT
END:VCALENDAR
BEGIN:VCALENDAR
PRODID:-//eluceo/ical//2.0/EN
VERSION:2.0
CALSCALE:GREGORIAN
BEGIN:VEVENT
UID:37551d7b3ac471cdec5bc1ba19d1b366
DTSTAMP:20260423T123935Z
SUMMARY:Spasitel
DTSTART;TZID=Europe/Prague:20260427T200000
DTEND;TZID=Europe/Prague:20260427T223600
LOCATION:Univerzitní kino Scala
END:VEVENT
END:VCALENDAR
