BEGIN:VCALENDAR
PRODID:-//eluceo/ical//2.0/EN
VERSION:2.0
CALSCALE:GREGORIAN
BEGIN:VEVENT
UID:9d500cb9b9846036eca8ec0b6e106e9d
DTSTAMP:20260423T123629Z
SUMMARY:Spasitel
DTSTART;TZID=Europe/Prague:20260424T164500
DTEND;TZID=Europe/Prague:20260424T192100
LOCATION:Univerzitní kino Scala
END:VEVENT
END:VCALENDAR
BEGIN:VCALENDAR
PRODID:-//eluceo/ical//2.0/EN
VERSION:2.0
CALSCALE:GREGORIAN
BEGIN:VEVENT
UID:31e75d83b5e5ba60e29ef280958f2f29
DTSTAMP:20260423T123629Z
SUMMARY:Spasitel
DTSTART;TZID=Europe/Prague:20260424T164500
DTEND;TZID=Europe/Prague:20260424T192100
LOCATION:Univerzitní kino Scala
END:VEVENT
END:VCALENDAR
