BEGIN:VCALENDAR
PRODID:-//eluceo/ical//2.0/EN
VERSION:2.0
CALSCALE:GREGORIAN
BEGIN:VEVENT
UID:342ebc2017ed71a533c1955a4017e7cc
DTSTAMP:20260422T182017Z
SUMMARY:Zmizení Josefa Mengeleho
DTSTART;TZID=Europe/Prague:20260513T200000
DTEND;TZID=Europe/Prague:20260513T221500
LOCATION:Univerzitní kino Scala
END:VEVENT
END:VCALENDAR
BEGIN:VCALENDAR
PRODID:-//eluceo/ical//2.0/EN
VERSION:2.0
CALSCALE:GREGORIAN
BEGIN:VEVENT
UID:ce2a3f9823da70349202200f54c78ad0
DTSTAMP:20260422T182017Z
SUMMARY:Zmizení Josefa Mengeleho
DTSTART;TZID=Europe/Prague:20260513T200000
DTEND;TZID=Europe/Prague:20260513T221500
LOCATION:Univerzitní kino Scala
END:VEVENT
END:VCALENDAR
