BEGIN:VCALENDAR
PRODID:-//eluceo/ical//2.0/EN
VERSION:2.0
CALSCALE:GREGORIAN
BEGIN:VEVENT
UID:f163c63f00dd0c34808f3b705f52509e
DTSTAMP:20260422T182459Z
SUMMARY:Ďábel nosí Pradu 2
DTSTART;TZID=Europe/Prague:20260508T171500
DTEND;TZID=Europe/Prague:20260508T191500
LOCATION:Univerzitní kino Scala
END:VEVENT
END:VCALENDAR
BEGIN:VCALENDAR
PRODID:-//eluceo/ical//2.0/EN
VERSION:2.0
CALSCALE:GREGORIAN
BEGIN:VEVENT
UID:041a049e4ce279bc209da71cedfdffaa
DTSTAMP:20260422T182459Z
SUMMARY:Ďábel nosí Pradu 2
DTSTART;TZID=Europe/Prague:20260508T171500
DTEND;TZID=Europe/Prague:20260508T191500
LOCATION:Univerzitní kino Scala
END:VEVENT
END:VCALENDAR
