BEGIN:VCALENDAR
PRODID:-//eluceo/ical//2.0/EN
VERSION:2.0
CALSCALE:GREGORIAN
BEGIN:VEVENT
UID:75a555057d51f71bd852c8a3d837dd63
DTSTAMP:20260422T181402Z
SUMMARY:Zmizení Josefa Mengeleho
DTSTART;TZID=Europe/Prague:20260510T143000
DTEND;TZID=Europe/Prague:20260510T164500
LOCATION:Univerzitní kino Scala
END:VEVENT
END:VCALENDAR
BEGIN:VCALENDAR
PRODID:-//eluceo/ical//2.0/EN
VERSION:2.0
CALSCALE:GREGORIAN
BEGIN:VEVENT
UID:fa75add9bf6e669928c8c05dd31650fe
DTSTAMP:20260422T181402Z
SUMMARY:Zmizení Josefa Mengeleho
DTSTART;TZID=Europe/Prague:20260510T143000
DTEND;TZID=Europe/Prague:20260510T164500
LOCATION:Univerzitní kino Scala
END:VEVENT
END:VCALENDAR
