BEGIN:VCALENDAR
PRODID:-//eluceo/ical//2.0/EN
VERSION:2.0
CALSCALE:GREGORIAN
BEGIN:VEVENT
UID:6a69f3ef4447edfc21cc548dbe05be3d
DTSTAMP:20260423T124033Z
SUMMARY:Spasitel
DTSTART;TZID=Europe/Prague:20260507T164500
DTEND;TZID=Europe/Prague:20260507T192100
LOCATION:Univerzitní kino Scala
END:VEVENT
END:VCALENDAR
BEGIN:VCALENDAR
PRODID:-//eluceo/ical//2.0/EN
VERSION:2.0
CALSCALE:GREGORIAN
BEGIN:VEVENT
UID:694ff3007aa303380fda3e754dbdd7e7
DTSTAMP:20260423T124033Z
SUMMARY:Spasitel
DTSTART;TZID=Europe/Prague:20260507T164500
DTEND;TZID=Europe/Prague:20260507T192100
LOCATION:Univerzitní kino Scala
END:VEVENT
END:VCALENDAR
